Workbook
Name Print_Area: Erläuterung!$A$1:$I$32

Sheet Deckblatt

Sheet Erläuterung
A1: Erläuterungen des Statistischen Bundesamtes:
A3: Sonstige Fonds, Einrichtungen und Unternehmen sind alle öffentlichen Fonds, Einrichtungen und Unternehmen, die nach den Vorgaben des Europäischen Systems der Volkswirtschaftlichen Gesamtrechnungen (ESVG 2010) nicht zum Sektor Staat gehören. Grundsätzlich handelt es sich bei diesen Einheiten nach dem ESVG 2010 um Marktproduzenten.
A5: Die Einheit wird von den Gebietskörperschaften des Staates (Bund, Länder, Gemeinden/Gemeindeverbände) sowie der Sozialversicherung kontrolliert, d.h. sie ist aus den Kernhaushalten der staatlichen Ebenen ausgegliedert, wurde neu gegründet oder durch Beteiligungserwerb erworben, aber die Gebietskörperschaften oder die Sozialversicherung halten die Mehrheit des Kapitals oder des Stimmrechts der Einheit.
A7: Die Liste der sonstigen Fonds, Einrichtungen und Unternehmen umfasst die öffentlichen Einheiten, die zum 1. Januar des Berichtsjahres nach dem ESVG 2010 nicht zum Sektor Staat zählen.
A8: Die Spalte Identifikator beinhaltet einen 14- oder 15-stelligen eindeutigen Identifikator.
A10: Die Spalte "Ebene" bezeichnet die Ebene, zu welcher die jeweilige Einheit zugeordnet wird: (Anm. Bundesbank: gemeint ist hier der Träger/Eigentümer)
A12: Bund
A13: Land
A14: Gemeinde/Gemeindeverbände
A15: Sozialversicherung
A17: Die Spalte Land beinhaltet auf Länder- und Gemeindeebene die Angabe des entsprechenden Bundeslandes bzw. beim Bund und der Sozialversicherung die Angabe des Teilsektors.
A19: Die Tabellenblätter Zugang bzw. Abgang stellen die Veränderungen der aktuellen Liste der sonstigen Fonds, Einrichtungen und Unternehmen im Vergleich zur Liste der sonstigen Fonds, Einrichtungen und Unternehmen des Vorjahres dar. Bei den Zugängen handelt es sich sowohl um reklassifizierte Einheiten als auch um neue Einheiten. Neue Einheiten sind unter anderem auf Neugründungen und Erwerb von Beteiligungen zurückzuführen. Demgegenüber handelt es sich bei den Abgängen sowohl um reklassifizierte Einheiten als auch Fusionen, Abwicklungen oder Privatisierungen.
... A31: Vervielfältigung und Verbreitung, auch auszugsweise, mit Quellenangabe gestattet.

Sheet Liste der sFEU
A1: Identifikator | B1: Liste der sonstigen öffentlichen Fonds, Einrichtungen und Unternehmen (Marktproduzenten) Stand 1. Januar 2026 | C1: Bundesland | D1: Träger/Eigentümer | E1: ESVG-Sektor | F1: Kundensystematik-Schlüssel | G1: Monatliche Bilanzstatistik – Sektor – | H1: Handelsregisternummer gem. technischer Spezifikation der Stamm- und Kreditdatenmeldungen für AnaCredit | I1: Legal Entity Identifier gem. technischer Spezifikation der Stamm- und Kreditdatenmeldungen für AnaCredit | J1: Anmerkungen
A2: 149032551449612 | B2: "DER RHEINBERGER" Besitzgesellschaft mbH & Co. KG | C2: Rheinland-Pfalz | D2: Gemeinde/Gemeindeverbände | E2: S.11 | F2: 68B | G2: Sonstige Unternehmen | H2: HRA30043-T3403 | I2: 391200W4362PVJDLJU46
A3: 149032468969312 | B3: "DER RHEINBERGER" Verwaltungs-GmbH | C3: Rheinland-Pfalz | D3: Gemeinde/Gemeindeverbände | E3: S.11 | F3: 70A | G3: Sonstige Unternehmen | H3: HRB30058-T3403
A4: 164913081789712 | B4: "POLO KNOW-HOW" Industrie-Engineering GmbH | C4: Nordrhein-Westfalen | D4: Land | E4: S.11 | F4: 620 | G4: Sonstige Unternehmen | H4: HRB35868-R1202
A5: 171332031340712 | B5: "Windpark Norderland GmbH & Co. KG, Holtriemer Hammrich IV" | C5: Niedersachsen | D5: Gemeinde/Gemeindeverbände | E5: S.11 | G5: Sonstige Unternehmen | H5: HRA200233-P3101 | I5: 391200UZX98WMLPOLU90
A6: 153006446439312 | B6: "Wohnen im Süden Rheinhessens" Wohnungsbau- und Immobilienverwaltungsgesellschaft der Verbandsgemeinde Monsheim mbH | C6: Rheinland-Pfalz | D6: Gemeinde/Gemeindeverbände | E6: S.11 | F6: 68A | G6: Sonstige Unternehmen | H6: HRB46881-T2304
A7: 051202706189586 | B7: (KSR) Kommunale Servicebetriebe Recklinghausen | C7: Nordrhein-Westfalen | D7: Gemeinde/Gemeindeverbände | E7: S.11 | F7: 380 | G7: Sonstige Unternehmen
A8: 173622600258212 | B8: 1. Immobilienanlagegesellschaft Oldenburg mbH & Co. KG | C8: Niedersachsen | D8: Gemeinde/Gemeindeverbände | E8: =VLOOKUP(A8,Zugang!A:G,5,FALSE) -> S.127 | G8: Übrige Finanzierungsinstitutionen / Firmeneigene Finanzierungseinrichtungen und Kapitalgeber
A9: 051490332168112 | B9: 1. Stadtwerke Bielefeld Wind GmbH & Co. KG | C9: Nordrhein-Westfalen | D9: Gemeinde/Gemeindeverbände | E9: S.11 | F9: 350 | G9: Sonstige Unternehmen | H9: HRA15887-R2101
A10: 169397691681412 | B10: 100. WestWind Windpark GmbH & Co. KG | C10: Niedersachsen | D10: Gemeinde/Gemeindeverbände | E10: S.11 | F10: 350 | G10: Sonstige Unternehmen | H10: HRA202661-P2716
A11: 150224523893012 | B11: 17er Oberlandenergie GmbH | C11: Bayern | D11: Gemeinde/Gemeindeverbände | E11: S.11 | F11: 350 | G11: Sonstige Unternehmen | H11: HRB220729-D2601
A12: 121150243940265 | B12: 1822direkt Gesellschaft der Frankfurter Sparkasse mbH | C12: Hessen | D12: Gemeinde/Gemeindeverbände | E12: S.126 | F12: 660 | G12: Übrige Finanzierungsinstitutionen / Mit Finanz- und Versicherungsdienstleistungen verbundene Tätigkeiten | H12: HRB41799-M1201
A13: 158752859664705 | B13: 2. Stadtwerke Bielefeld Wind GmbH & Co.KG | C13: Nordrhein-Westfalen | D13: Gemeinde/Gemeindeverbände | E13: S.11 | F13: 350 | G13: Sonstige Unternehmen | H13: HRA15884-R2101
A14: 121456371338885 | B14: 24/7 Energie & Kommunikation GmbH | C14: Baden-Württemberg | D14: Gemeinde/Gemeindeverbände | E14: S.11 | F14: 350 | G14: Sonstige Unternehmen | H14: HRB726328-B8537
A15: 121442886033015 | B15: 3 SG Windparkbeteiligungsgesellschaft mbH | C15: Baden-Württemberg | D15: Gemeinde/Gemeindeverbände | E15: S.127 | F15: 64K | G15: Übrige Finanzierungsinstitutionen / Firmeneigene Finanzierungseinrichtungen und Kapitalgeber | H15: HRB730796-B8537
A16: 160402783768512 | B16: 3. HOVG Hamburger Objekt Verwaltungs GmbH & Co. KG | C16: Hamburg | D16: Land | E16: S.11 | F16: 68B | G16: Sonstige Unternehmen | H16: HRA124883-K1101
A17: 158752859666105 | B17: 3. Stadtwerke Bielefeld Wind GmbH & Co.KG | C17: Nordrhein-Westfalen | D17: Gemeinde/Gemeindeverbände | E17: S.11 | F17: 350 | G17: Sonstige Unternehmen | H17: HRA16066-R2101
A18: 031347260302745 | B18: 3N Dienstleistungen GmbH | C18: Niedersachsen | D18: Land | E18: S.11 | G18: Sonstige Unternehmen | H18: HRB201192-P3313
A19: 158752859667505 | B19: 4. Stadtwerke Bielefeld Wind GmbH & Co.KG | C19: Nordrhein-Westfalen | D19: Gemeinde/Gemeindeverbände | E19: S.11 | F19: 350 | G19: Sonstige Unternehmen | H19: HRA16064-R2101
A20: 151780526070212 | B20: 450 MHZ Beteiligung GmbH | C20: Thüringen | D20: Gemeinde/Gemeindeverbände | E20: S.127 | F20: 64K | G20: Übrige Finanzierungsinstitutionen / Firmeneigene Finanzierungseinrichtungen und Kapitalgeber | H20: HRB513360-Y1206
A21: 164732223313612 | B21: 5G-Synergiewerk GmbH | C21: Bayern | D21: Gemeinde/Gemeindeverbände | E21: S.11 | F21: 610 | G21: Sonstige Unternehmen | H21: HRB36189-D2102
A22: 158562688693612 | B22: 8. Solarpark Seinsheim GmbH & Co.KG | C22: Bayern | D22: Gemeinde/Gemeindeverbände | E22: S.127 | F22: 64K | G22: Übrige Finanzierungsinstitutionen / Firmeneigene Finanzierungseinrichtungen und Kapitalgeber | H22: HRA7009-D4708 | I22: 391200F2D5QK17EQJ336
A23: 121359340411699 | B23: 8KU GmbH | C23: Berlin | D23: Gemeinde/Gemeindeverbände | E23: S.11 | F23: 940 | G23: Sonstige Unternehmen | H23: HRB120092-F1103
A24: 165587403652812 | B24: A.R.T. Verwertung- und Sortoergesellschaft mbH | C24: Rheinland-Pfalz | D24: Gemeinde/Gemeindeverbände | E24: S.11 | F24: 380 | G24: Sonstige Unternehmen | H24: HRB3090-T2408
A25: 091096436669242 | B25: A.R.Z. - Ambulantes Rehazentrum Nürnberg gGmbH | C25: Bayern | D25: Gemeinde/Gemeindeverbände | E25: S.11 | F25: 860 | G25: Sonstige Unternehmen | H25: HRB19905-D3310
A26: 101081152611777 | B26: A.S.S. Abfallwirtschaftsgesellschaft Saarbrücken mbH | C26: Saarland | D26: Gemeinde/Gemeindeverbände | E26: S.11 | F26: 380 | G26: Sonstige Unternehmen | H26: HRB10565-V1109
A27: 051144210224702 | B27: A.V.E Paderborner Abfallverwertung und Energie GmbH | C27: Nordrhein-Westfalen | D27: Gemeinde/Gemeindeverbände | E27: S.11 | F27: 380 | G27: Sonstige Unternehmen | H27: HRB2042-R2809
A28: 051144296116242 | B28: Aachener Kreuz Merzbrück GmbH & Co. KG | C28: Nordrhein-Westfalen | D28: Gemeinde/Gemeindeverbände | E28: S.11 | F28: 68B | G28: Sonstige Unternehmen | H28: HRA4421-R3101
A29: 051144296121570 | B29: Aachener Kreuz Merzbrück Verwaltungs-GmbH | C29: Nordrhein-Westfalen | D29: Gemeinde/Gemeindeverbände | E29: S.11 | G29: Sonstige Unternehmen | H29: HRB7825-R3101
A30: 051144210202914 | B30: Aachener Parkhaus GmbH (APAG) | C30: Nordrhein-Westfalen | D30: Gemeinde/Gemeindeverbände | E30: S.11 | G30: Sonstige Unternehmen | H30: HRB6276-R3101
A31: 168376971569912 | B31: AAG Immobilien GmbH & Co. KG | C31: Nordrhein-Westfalen | D31: Gemeinde/Gemeindeverbände | E31: S.11 | F31: 68B | G31: Sonstige Unternehmen | H31: HRA36143-R3306
A32: 168376972639812 | B32: AAG Verwaltungs GmbH | C32: Nordrhein-Westfalen | D32: Gemeinde/Gemeindeverbände | E32: S.127 | F32: 64K | G32: Übrige Finanzierungsinstitutionen / Firmeneigene Finanzierungseinrichtungen und Kapitalgeber | H32: HRB110195-R3306
A33: 121116939008364 | B33: Aalener Thermal-Mineralbad GmbH & Co. KG | C33: Baden-Württemberg | D33: Gemeinde/Gemeindeverbände | E33: S.11 | F33: 860 | G33: Sonstige Unternehmen | H33: HRA500732-B8537
A34: 158856174009412 | B34: AB Ökoenergie GmbH | C34: Bayern | D34: Gemeinde/Gemeindeverbände | E34: S.11 | F34: 350 | G34: Sonstige Unternehmen | H34: HRB34477-D2102
A35: 156825354631112 | B35: ABA Industriegebiet GmbH | C35: Brandenburg | D35: Gemeinde/Gemeindeverbände | E35: S.11 | F35: 370 | G35: Sonstige Unternehmen | H35: HRB17243-G1207
A36: 051144210205150 | B36: ABB Immobilien GmbH | C36: Nordrhein-Westfalen | D36: Gemeinde/Gemeindeverbände | E36: S.11 | F36: 870 | G36: Sonstige Unternehmen | H36: HRB8040-R1402
A37: 161284070984812 | B37: ABB Immobilienverwaltung GmbH & Co. KG | C37: Hamburg | D37: Land | E37: S.11 | F37: 68B | G37: Sonstige Unternehmen | H37: HRA126820-K1101
A38: 091188774408094 | B38: ABC Ambulantes BehandlungsCentrum Nürnberg GmbH | C38: Bayern | D38: Gemeinde/Gemeindeverbände | E38: S.11 | F38: 860 | G38: Sonstige Unternehmen | H38: HRB19360-D3310
A39: 061085618372967 | B39: ABeG Abwasserbetriebsgesellschaft mbH | C39: Hessen | D39: Gemeinde/Gemeindeverbände | E39: S.11 | F39: 370 | G39: Sonstige Unternehmen | H39: HRB10943-M1114
A40: 148773051840212 | B40: ABEG Baulandentwicklung Beteiligungsgesellschaft mbH Algermissen | C40: Niedersachsen | D40: Gemeinde/Gemeindeverbände | E40: S.11 | G40: Sonstige Unternehmen | H40: HRB3665-P2408
...

Sheet Zugang
A1: Identifikator | B1: Liste der sonstigen Fonds, Einrichtungen und Unternehmen Neuzugänge gegenüber dem Stand 1. Januar 2025 Stand 1. Januar 2026 | C1: Bundesland | D1: Eigner / Bundesland | E1: Neuer ESVG- Teilsektor | F1: Neuer Kunden- systematik- Schlüssel | G1: Monatliche Bilanzstatistik – Sektor – | H1: Anmerkungen
A2: 173622600258212 | B2: 1. Immobilienanlagegesellschaft Oldenburg mbH & Co. KG | C2: Niedersachsen | D2: Gemeinde/Gemeindeverbände | E2: S.127 | F2: 64K | G2: Übrige Finanzierungsinstitutionen / Firmeneigene Finanzierungseinrichtungen und Kapitalgeber
A3: 175264168110612 | B3: Abwasserbeseitigungsbetrieb der Stadt Bramsche | C3: Niedersachsen | D3: Gemeinde/Gemeindeverbände | E3: S.11 | F3: 370 | G3: Sonstige Unternehmen | H3: Abgang Liste der Extrahaushalte 2026.
A4: 177001227333112 | B4: Abwasserverband Aischgrund | C4: Bayern | D4: Gemeinde/Gemeindeverbände | E4: S.11 | F4: 370 | G4: Sonstige Unternehmen
A5: 141086673391886 | B5: Abwasserzweckverband "Landwasser" | C5: Sachsen | D5: Gemeinde/Gemeindeverbände | E5: S.11 | F5: 370 | G5: Sonstige Unternehmen
A6: 173190678022412 | B6: Adelebser Immobilien GmbH | C6: Niedersachsen | D6: Gemeinde/Gemeindeverbände | E6: S.11 | F6: 68A | G6: Sonstige Unternehmen
A7: 176586215954312 | B7: Agenda Gewässer III. Ordnung Planungs GmbH | C7: Bayern | D7: Gemeinde/Gemeindeverbände | E7: S.11 | F7: 710 | G7: Sonstige Unternehmen
A8: 51163394188500 | B8: AggerEnergie GmbH | C8: Nordrhein-Westfalen | D8: Gemeinde/Gemeindeverbände | E8: S.11 | F8: 350 | G8: Sonstige Unternehmen
A9: 173623121000612 | B9: AHK Nachhaltigkeits GmbH | C9: Niedersachsen | D9: Land | E9: S.127 | F9: 64K | G9: Übrige Finanzierungsinstitutionen / Firmeneigene Finanzierungseinrichtungen und Kapitalgeber
A10: 176974835072712 | B10: AIP Innenprojekt GmbH | C10: Sachsen | D10: Gemeinde/Gemeindeverbände | E10: S.11 | F10: 430 | G10: Sonstige Unternehmen
A11: 177070006354812 | B11: Altfraunhofener Kommunalunternehmen | C11: Bayern | D11: Gemeinde/Gemeindeverbände | E11: S.11 | F11: 940 | G11: Sonstige Unternehmen
A12: 174037396140312 | B12: Amario GmbH | C12: Baden-Württemberg | D12: Gemeinde/Gemeindeverbände | E12: S.11 | F12: 430 | G12: Sonstige Unternehmen
A13: 177252117939812 | B13: Amperland Thermalwärme GmbH | C13: Bayern | D13: Gemeinde/Gemeindeverbände | E13: S.11 | G13: Sonstige Unternehmen
A14: 172861852766712 | B14: ATE Windpark Marienthal GmbH & Co. KG | C14: Baden-Württemberg | D14: Gemeinde/Gemeindeverbände | E14: S.11 | F14: 350 | G14: Sonstige Unternehmen
A15: 176785247483312 | B15: ATOZ Facility Solutions GmbH | C15: Berlin | D15: Land | E15: S.11 | F15: 810 | G15: Sonstige Unternehmen
A16: 176595397503912 | B16: Bad Lausicker Thermenresort GmbH | C16: Sachsen | D16: Gemeinde/Gemeindeverbände | E16: S.11 | F16: 550 | G16: Sonstige Unternehmen
A17: 175800099987612 | B17: BALANCE Beteiligungsmanagement GmbH & Co. KG | C17: Sachsen | D17: Gemeinde/Gemeindeverbände | E17: S.127 | F17: 64K | G17: Übrige Finanzierungsinstitutionen / Firmeneigene Finanzierungseinrichtungen und Kapitalgeber
A18: 149922235802612 | B18: Barnimer Energiebeteiligungsgesellschaft mbH (BEBG) | C18: Brandenburg | D18: Gemeinde/Gemeindeverbände | E18: S.11 | F18: 350 | G18: Sonstige Unternehmen
A19: 170313044770412 | B19: Barnstorfer Umwelt-Erlebnis-Zentrum gGmbH | C19: Niedersachsen | D19: Gemeinde/Gemeindeverbände | E19: S.11 | F19: 820 | G19: Sonstige Unternehmen | H19: Abgang Liste der Extrahaushalte 2026.
A20: 177182103026212 | B20: Batteriespeicher Leupolz Beteiligungsgesellschaft mbH & Co.KG | C20: Bayern | D20: Gemeinde/Gemeindeverbände | E20: S.127 | F20: 64K | G20: Übrige Finanzierungsinstitutionen / Firmeneigene Finanzierungseinrichtungen und Kapitalgeber
A21: 177182105542312 | B21: Batteriespeicher Leupolz Beteiligungsgesellschaft Verwaltungs GmbH | C21: Bayern | D21: Gemeinde/Gemeindeverbände | E21: S.127 | F21: 64K | G21: Übrige Finanzierungsinstitutionen / Firmeneigene Finanzierungseinrichtungen und Kapitalgeber
A22: 121092720504329 | B22: Bau- und Betreibergesellschaft IBA-Terrassen mbH | C22: Brandenburg | D22: Gemeinde/Gemeindeverbände | E22: S.11 | F22: 68B | G22: Sonstige Unternehmen | H22: Abgang Liste der Extrahaushalte 2026.
A23: 177450844402512 | B23: Bayern Kapital Wachstums- und ScaleUp-Fonds GmbH & Co.KG | C23: Bayern | D23: Land | E23: S.127 | F23: 64E | G23: Übrige Finanzierungsinstitutionen / Firmeneigene Finanzierungseinrichtungen und Kapitalgeber
A24: 91090237414073 | B24: Bayern Tourismus Marketinggesellschaft mit beschränkter Haftung | C24: Bayern | D24: Gemeinde/Gemeindeverbände | E24: S.11 | F24: 730 | G24: Sonstige Unternehmen
A25: 175341886861412 | B25: BaySF BayernWind GmbH | C25: Bayern | D25: Land | E25: S.11 | F25: 350 | G25: Sonstige Unternehmen
A26: 177723606286512 | B26: Beteiligungsgesellschaft Wadern mbH | C26: Saarland | D26: Gemeinde/Gemeindeverbände | E26: S.127 | F26: 64K | G26: Übrige Finanzierungsinstitutionen / Firmeneigene Finanzierungseinrichtungen und Kapitalgeber
A27: 51144296136178 | B27: BEW Netze GmbH | C27: Nordrhein-Westfalen | D27: Gemeinde/Gemeindeverbände | E27: S.11 | F27: 350 | G27: Sonstige Unternehmen
A28: 177270425154612 | B28: Bildungsservice Kreis Groß-Gerau (AöR) | C28: Hessen | D28: Gemeinde/Gemeindeverbände | E28: S.11 | F28: 880 | G28: Sonstige Unternehmen
A29: 149628156216112 | B29: Bingen Netz GmbH & Co.KG | C29: Rheinland-Pfalz | D29: Gemeinde/Gemeindeverbände | E29: S.11 | F29: 350 | G29: Sonstige Unternehmen | H29: Abgang Liste der Extrahaushalte 2026.
A30: 168852823043412 | B30: Biowärme Dinslaken GmbH | C30: Nordrhein-Westfalen | D30: Gemeinde/Gemeindeverbände | E30: S.11 | F30: 350 | G30: Sonstige Unternehmen
A31: 148853498943909 | B31: BiVA - Biologische Verwertungsgesellschaft Allgäu mbH | C31: Bayern | D31: Gemeinde/Gemeindeverbände | E31: S.11 | F31: 380 | G31: Sonstige Unternehmen
A32: 168869994605412 | B32: Blockhaus Ahlhorn gGmbH | C32: Niedersachsen | D32: Gemeinde/Gemeindeverbände | E32: S.11 | F32: 880 | G32: Sonstige Unternehmen | H32: Abgang Liste der Extrahaushalte 2026.
A33: 176058818375912 | B33: BML GebäudeService GmbH | C33: Bayern | D33: Gemeinde/Gemeindeverbände | E33: S.11 | F33: 810 | G33: Sonstige Unternehmen
A34: 175247497570312 | B34: Breisach Marketing GmbH | C34: Baden-Württemberg | D34: Gemeinde/Gemeindeverbände | E34: S.11 | F34: 730 | G34: Sonstige Unternehmen
A35: 174046549459912 | B35: Breitband Ostalb Kommunalanstalt des öffentlichen Rechts | C35: Baden-Württemberg | D35: Gemeinde/Gemeindeverbände | E35: S.11 | F35: 620 | G35: Sonstige Unternehmen
A36: 177078523280812 | B36: Burger Wärme GmbH | C36: Bayern | D36: Gemeinde/Gemeindeverbände | E36: S.11 | F36: 350 | G36: Sonstige Unternehmen
A37: 173683179710012 | B37: BürgerGesundheitsPark Bad Gandersheim GmbH | C37: Niedersachsen | D37: Gemeinde/Gemeindeverbände | E37: S.11 | F37: 860 | G37: Sonstige Unternehmen
A38: 175142944103612 | B38: Bürgerwind Höhenkirchner Forst GmbH & Co. KG | C38: Bayern | D38: Gemeinde/Gemeindeverbände | E38: S.11 | F38: 350 | G38: Sonstige Unternehmen
A39: 175151942749412 | B39: Bürgerwindpark Höhenkirchner Forst Verwaltungs GmbH | C39: Bayern | D39: Gemeinde/Gemeindeverbände | E39: S.127 | F39: 64K | G39: Übrige Finanzierungsinstitutionen / Firmeneigene Finanzierungseinrichtungen und Kapitalgeber
A40: 176828318014312 | B40: Burkhard-von-Seckendorff Heim der Hospitalstiftung Gunzenhausen | C40: Bayern | D40: Gemeinde/Gemeindeverbände | E40: S.11 | F40: 870 | G40: Sonstige Unternehmen
...

Sheet Abgang
A1: Identifikator | B1: Liste der sonstigen Fonds, Einrichtungen und Unternehmen Abgänge gegenüber dem Stand 1. Januar 2025 Stand 1. Januar 2026 | C1: Bundesland | D1: Träger/ Eigentümer | E1: Neuer ESVG- Teilsektor | F1: Neuer Kunden- systematik- Schlüssel | G1: Neuer Monatliche Bilanzstatistik – Sektor – | H1: Anmerkungen
A2: 121391050922759 | B2: "Der Apparat" Multimedia GmbH | C2: Berlin | D2: Land | E2: S.11 | G2: Sonstige Unternehmen
A3: 162848041940105 | B3: 010052 Telecom GmbH | C3: Nordrhein-Westfalen | D3: Gemeinde/Gemeindeverbände | H3: verschmolzen auf Plusnet GmbH
A4: 162848041961105 | B4: 010088 Telecom GmbH | C4: Nordrhein-Westfalen | D4: Gemeinde/Gemeindeverbände | H4: verschmolzen auf Plusnet GmbH
A5: 162848041937305 | B5: 010090 GmbH | C5: Nordrhein-Westfalen | D5: Gemeinde/Gemeindeverbände | H5: verschmolzen auf Plusnet GmbH
A6: 162848041962505 | B6: 01012 Telecom GmbH | C6: Nordrhein-Westfalen | D6: Gemeinde/Gemeindeverbände | H6: verschmolzen auf Plusnet GmbH
A7: 162848041941505 | B7: 01052 Communications GmbH | C7: Nordrhein-Westfalen | D7: Gemeinde/Gemeindeverbände | H7: verschmolzen auf Plusnet GmbH
A8: 162848041938705 | B8: 01098 Telecom GmbH | C8: Nordrhein-Westfalen | D8: Gemeinde/Gemeindeverbände | H8: verschmolzen auf Plusnet GmbH
A9: 163842814439312 | B9: 1. Berndorfer Immobilien-Verwaltungs-GmbH | C9: Hessen | D9: Gemeinde/Gemeindeverbände | E9: S.1313 | F9: 84A | G9: Gemeinde/Gemeindeverbände | H9: Zugang Liste der Extrahaushalte 2026.
A10: 173683426591612 | B10: A B S Hydraulik-Service GmbH | C10: Bayern | D10: Gemeinde/Gemeindeverbände | H10: verschmolzen auf Zeppelin Baumaschinen GmbH
A11: 121453346325481 | B11: Abendschulen Mannheim Gesellschaft mit beschränkter Haftung | C11: Baden-Württemberg | D11: Gemeinde/Gemeindeverbände | E11: S.1313 | F11: 84A | G11: Gemeinde/Gemeindeverbände | H11: Zugang Liste der Extrahaushalte 2026.
A12: 51144210163302 | B12: Abfallentsorgungsbetrieb des Kreises Minden-Lübbecke | C12: Nordrhein-Westfalen | D12: Gemeinde/Gemeindeverbände | H12: zusammengeführt mit KreisAbfallVerwertungsGesellschaft (KAVG)
A13: 31095683319859 | B13: Abfallwirtschaftsbetrieb Landkreis Aurich | C13: Niedersachsen | D13: Gemeinde/Gemeindeverbände | E13: S.11 | F13: 380 | G13: Sonstige Unternehmen
A14: 31095683323363 | B14: Abwasserbeseitigung Samtgemeinde Grafschaft Hoya | C14: Niedersachsen | D14: Gemeinde/Gemeindeverbände | H14: Aufgaben übertragen auf Wasserverband „Nienburger Land“
A15: 31095683322211 | B15: Abwasserbeseitigungsbetrieb Dissen aTW | C15: Niedersachsen | D15: Gemeinde/Gemeindeverbände | E15: S.11 | F15: 370 | G15: Sonstige Unternehmen
A16: 131168938544361 | B16: Abwasserbetrieb Schlemmin | C16: Mecklenburg-Vorpommern | D16: Gemeinde/Gemeindeverbände | H16: Aufgelöst.
A17: 131083765788352 | B17: Abwasserbetrieb Semlow | C17: Mecklenburg-Vorpommern | D17: Gemeinde/Gemeindeverbände | H17: Aufgelöst.
A18: 31095683317075 | B18: Abwasserentsorgungsbetrieb Stolzenau | C18: Niedersachsen | D18: Gemeinde/Gemeindeverbände | E18: S.11 | F18: 370 | G18: Sonstige Unternehmen
A19: 151082364703309 | B19: Abwassergesellschaft Stendal mbH | C19: Sachsen-Anhalt | D19: Gemeinde/Gemeindeverbände | H19: verschmolzen auf Stadtwerke - Altmärkische Gas-, Wasser- und Elektrizitätswerke GmbH
A20: 61085618540325 | B20: Abwasserverband Oberes Usatal | C20: Hessen | D20: Gemeinde/Gemeindeverbände | E20: S.1313 | F20: 84A | G20: Gemeinde/Gemeindeverbände | H20: Zugang Liste der Extrahaushalte 2026.
A21: 121116938650970 | B21: Abwasserverband Unteres Kandertal | C21: Baden-Württemberg | D21: Gemeinde/Gemeindeverbände | H21: Aufgelöst.
A22: 141086673398894 | B22: Abwasserzweckverband "Kamenz-Nord" | C22: Sachsen | D22: Gemeinde/Gemeindeverbände | H22: eingegliedert in "Wasser und Abwasser Zweckverband Lausitz (WAZV Lausitz)"
A23: 141086673391886 | B23: Abwasserzweckverband "Landwasser" | C23: Sachsen | D23: Gemeinde/Gemeindeverbände | E23: S.11 | F23: 370 | G23: Sonstige Unternehmen
A24: 91090237363145 | B24: aerogate München Gesellschaft für Luftverkehrsabfertigungen mbH | C24: Bayern | D24: Land | H24: verschmolzen auf AHS MÜNCHEN Aviation Handling Services GmbH
A25: 150336744213212 | B25: Altmühl-Jura GmbH | C25: Bayern | D25: Gemeinde/Gemeindeverbände | E25: S.1313 | F25: 84A | G25: Gemeinde/Gemeindeverbände | H25: Zugang Liste der Extrahaushalte 2026.
A26: 121164852276632 | B26: AQUAtoll Restaurantbetriebsgesellschaft mbH | C26: Baden-Württemberg | D26: Gemeinde/Gemeindeverbände | E26: S.1313 | F26: 84A | G26: Gemeinde/Gemeindeverbände | H26: Zugang Liste der Extrahaushalte 2026.
A27: 158760949786912 | B27: Arbeitsgemeinschaft Fahrrad- und Fußgängerfreundlicher Kommunen in BW e.V. (AGFK-BW) | C27: Baden-Württemberg | D27: Gemeinde/Gemeindeverbände | E27: S.1313 | F27: 84A | G27: Gemeinde/Gemeindeverbände | H27: Zugang Liste der Extrahaushalte 2026.
A28: 131083766016408 | B28: ARCUM Südwestmecklenburg GmbH i. L. | C28: Mecklenburg-Vorpommern | D28: Gemeinde/Gemeindeverbände | H28: Aufgelöst..
A29: 168542422392012 | B29: ARGE DMP Koronare Herzkrankheiten GbR | C29: gesetzliche Sozialversicherung | D29: Sozialversicherung | E29: S.11 | F29: 860 | G29: Sonstige Unternehmen
A30: 163090618640612 | B30: ATE Solarparks 1 GmbH & Co. KG | C30: Baden-Württemberg | D30: Gemeinde/Gemeindeverbände | H30: jetzt "KMW Solarpark Kichrheimbolanden GmbH & Co. KG"
A31: 163090747943412 | B31: ATE Solarparks 10 GmbH & Co. KG | C31: Baden-Württemberg | D31: Gemeinde/Gemeindeverbände | E31: S.11 | F31: 350 | G31: Sonstige Unternehmen
A32: 163090629733312 | B32: ATE Solarparks 2 GmbH & Co. KG | C32: Baden-Württemberg | D32: Gemeinde/Gemeindeverbände | E32: S.11 | F32: 350 | G32: Sonstige Unternehmen
A33: 163098655010912 | B33: ATE Windpark Lußhardt GmbH & Co. KG | C33: Baden-Württemberg | D33: Gemeinde/Gemeindeverbände | E33: S.11 | F33: 350 | G33: Sonstige Unternehmen
A34: 163090794259612 | B34: ATE Windpark Warmsen GmbH & Co. KG | C34: Niedersachsen | D34: Gemeinde/Gemeindeverbände | E34: S.11 | F34: 350 | G34: Sonstige Unternehmen
A35: 166753731538412 | B35: ATE Windpark Weinbach Weilmünster GmbH & Co. KG | C35: Baden-Württemberg | D35: Gemeinde/Gemeindeverbände | E35: S.11 | F35: 350 | G35: Sonstige Unternehmen
A36: 167652426395712 | B36: ATRAS Beteiligungs GmbH | C36: Niedersachsen | D36: Gemeinde/Gemeindeverbände | H36: Aufgelöst..
A37: 150812818908712 | B37: Auricher Bäder- und Hallenbetriebsverwaltungsgesellschaft mbH | C37: Niedersachsen | D37: Gemeinde/Gemeindeverbände | E37: S.1313 | F37: 84A | G37: Gemeinde/Gemeindeverbände | H37: Zugang Liste der Extrahaushalte 2026.
A38: 150181162033812 | B38: AWIGO Recycling GmbH | C38: Niedersachsen | D38: Gemeinde/Gemeindeverbände | E38: S.11 | F38: 380 | G38: Sonstige Unternehmen
A39: 71159947990872 | B39: Bad Kreuznacher Entwicklungsgesellschaft mbH (BKEG) | C39: Rheinland-Pfalz | D39: Gemeinde/Gemeindeverbände | H39: Aufgelöst..
A40: 31095683347795 | B40: Bad Pyrmont Tourismus GmbH | C40: Niedersachsen | D40: Gemeinde/Gemeindeverbände | E40: S.1313 | F40: 84A | G40: Gemeinde/Gemeindeverbände | H40: Zugang Liste der Extrahaushalte 2026.
...
